BEGIN:VCALENDAR
VERSION:2.0
PRODID:-//Dublin Road Irish Pub - ECPv6.8.3//NONSGML v1.0//EN
CALSCALE:GREGORIAN
METHOD:PUBLISH
X-WR-CALNAME:Dublin Road Irish Pub
X-ORIGINAL-URL:https://pub-wd.de
X-WR-CALDESC:Veranstaltungen für Dublin Road Irish Pub
REFRESH-INTERVAL;VALUE=DURATION:PT1H
X-Robots-Tag:noindex
X-PUBLISHED-TTL:PT1H
BEGIN:VTIMEZONE
TZID:Europe/Paris
BEGIN:DAYLIGHT
TZOFFSETFROM:+0100
TZOFFSETTO:+0200
TZNAME:CEST
DTSTART:20240331T010000
END:DAYLIGHT
BEGIN:STANDARD
TZOFFSETFROM:+0200
TZOFFSETTO:+0100
TZNAME:CET
DTSTART:20241027T010000
END:STANDARD
TZID:UTC
BEGIN:STANDARD
TZOFFSETFROM:+0000
TZOFFSETTO:+0000
TZNAME:UTC
DTSTART:20240101T000000
END:STANDARD
END:VTIMEZONE
BEGIN:VEVENT
DTSTART;TZID=Europe/Paris:20240406T210000
DTEND;TZID=Europe/Paris:20240406T210000
DTSTAMP:20260420T234535
CREATED:20240304T152147Z
LAST-MODIFIED:20240304T163905Z
UID:126-1712437200-1712437200@pub-wd.de
SUMMARY:Voice of Rock - Carsten Breuer in Concert
DESCRIPTION:  \n  \n  \n  \n  \n  \nEr ist ein guter alter Bekannter hier im  Irish Pub Dublin Road – Carsten Breuer . Einfühlsam aber auch direkt präsentiert er sich in seinen Live Shows. Ob Solo oder in der Band : Er ist „The Voice of Rock “ – Solltet ihr nicht verpassen.
URL:https://pub-wd.de/event/voice-of-rock-carsten-breuer-in-conzert/
LOCATION:Irisch Pub Dublin Road Wiedenbrück\, Marienstr\, 19\, Wiedenbrück\, 33378\, Deutschland
ATTACH;FMTTYPE=image/png:https://pub-wd.de/wp-content/uploads/2024/03/Carsten-Breuer.png
END:VEVENT
BEGIN:VEVENT
DTSTART;TZID=UTC:20240413T210000
DTEND;TZID=UTC:20240413T233000
DTSTAMP:20260420T234535
CREATED:20240304T155017Z
LAST-MODIFIED:20240405T092814Z
UID:137-1713042000-1713051000@pub-wd.de
SUMMARY:Karaoke Show mit DJ OWL Klausi und Azubi Mark
DESCRIPTION:Seit geraumer Zeit produzieren die Beiden Karaoke Events vom Feinsten wie z.B. auch im Pub für den Jugenkulturring noch im Herbst letzten Jahres. Um 24.00 haben alle auf den Tischen getanzt- ein Top Event. Und so läufts:  Jeder der mitsingen möchte kann sich seinen Song aussuchen und dann performen – wenn er dazu einige kleine Tricks und Kniffe benötigt kein Problem. Dann geht ´s auf die Bühne und nach kurzer Zeit singen garantiert viele andere mit und tatsächlich: Die meisten dieser Karaoke Shows enden in einer Art Rudelsingen-  Party pur\, da bleibt kein Auge trocken – solltet ihr euch nicht entgehen lassen. Während DJ OWL Klausi dafür sorgt\, dass die Bühne stets besetzt ist\, sorgt Azubi Mark für einen Top Sound und das trotz 4 offener Mikrofone und unbekannten Playbacks. Beginn 21.00 – Ende 24.00 – wir sehen uns …..! \n \n  \n  \n  \n  \n  \n  \n  \n  \n 
URL:https://pub-wd.de/event/karaoke-show-mit-dj-owl-klausi-und-azubi-mark/
ATTACH;FMTTYPE=image/jpeg:https://pub-wd.de/wp-content/uploads/2024/03/bruno-cervera-Gi6-m_t_W-E-unsplash-scaled.jpg
END:VEVENT
END:VCALENDAR