BEGIN:VCALENDAR
VERSION:2.0
PRODID:-//Dublin Road Irish Pub - ECPv6.8.3//NONSGML v1.0//EN
CALSCALE:GREGORIAN
METHOD:PUBLISH
X-WR-CALNAME:Dublin Road Irish Pub
X-ORIGINAL-URL:https://pub-wd.de
X-WR-CALDESC:Veranstaltungen für Dublin Road Irish Pub
REFRESH-INTERVAL;VALUE=DURATION:PT1H
X-Robots-Tag:noindex
X-PUBLISHED-TTL:PT1H
BEGIN:VTIMEZONE
TZID:UTC
BEGIN:STANDARD
TZOFFSETFROM:+0000
TZOFFSETTO:+0000
TZNAME:UTC
DTSTART:20240101T000000
END:STANDARD
END:VTIMEZONE
BEGIN:VEVENT
DTSTART;TZID=UTC:20240309T210000
DTEND;TZID=UTC:20240309T210000
DTSTAMP:20260421T040623
CREATED:20240304T162536Z
LAST-MODIFIED:20240304T202917Z
UID:152-1710018000-1710018000@pub-wd.de
SUMMARY:Mit stattlicher Stimme und viel Gefühl - Andre Deininger solo in Concert
DESCRIPTION:Schaut man in die Vita des Andre Deiningers\, so wird schnell klar: Deininger ist ein erfahrener und professioneller Musiker\, der auch vor seiner Teilnahme bei „The Voice of Germany“ in vielen musikalischen Bereichen tätig und erfolgreich war. Beeindruckend seine Live Präsenz und sein immenses Stimm Volumen –  beides Garanten für einen gelungenen Live Event.
URL:https://pub-wd.de/event/mit-stattliche-stimme-und-viel-gefuehl-andre-deininger-ist-merh-als-eine-voice-of-germany/
LOCATION:Irish Pub Wieddenbrück\, Marienstr\, 19\, Wiedenbrück\, 33378\, Deutschland
ATTACH;FMTTYPE=image/jpeg:https://pub-wd.de/wp-content/uploads/2024/03/Deiniger.jpg
END:VEVENT
END:VCALENDAR